BEGIN:VCALENDAR
VERSION:2.0
PRODID:-//Space Villers-sur-Mer - ECPv6.15.16//NONSGML v1.0//EN
CALSCALE:GREGORIAN
METHOD:PUBLISH
X-WR-CALNAME:Space Villers-sur-Mer
X-ORIGINAL-URL:https://www.space-villers.fr
X-WR-CALDESC:Évènements pour Space Villers-sur-Mer
REFRESH-INTERVAL;VALUE=DURATION:PT1H
X-Robots-Tag:noindex
X-PUBLISHED-TTL:PT1H
BEGIN:VTIMEZONE
TZID:Europe/Paris
BEGIN:DAYLIGHT
TZOFFSETFROM:+0100
TZOFFSETTO:+0200
TZNAME:CEST
DTSTART:20250330T010000
END:DAYLIGHT
BEGIN:STANDARD
TZOFFSETFROM:+0200
TZOFFSETTO:+0100
TZNAME:CET
DTSTART:20251026T010000
END:STANDARD
BEGIN:DAYLIGHT
TZOFFSETFROM:+0100
TZOFFSETTO:+0200
TZNAME:CEST
DTSTART:20260329T010000
END:DAYLIGHT
BEGIN:STANDARD
TZOFFSETFROM:+0200
TZOFFSETTO:+0100
TZNAME:CET
DTSTART:20261025T010000
END:STANDARD
BEGIN:DAYLIGHT
TZOFFSETFROM:+0100
TZOFFSETTO:+0200
TZNAME:CEST
DTSTART:20270328T010000
END:DAYLIGHT
BEGIN:STANDARD
TZOFFSETFROM:+0200
TZOFFSETTO:+0100
TZNAME:CET
DTSTART:20271031T010000
END:STANDARD
END:VTIMEZONE
BEGIN:VEVENT
DTSTART;VALUE=DATE:20260516
DTEND;VALUE=DATE:20260517
DTSTAMP:20260424T075205
CREATED:20260331T124642Z
LAST-MODIFIED:20260331T124642Z
UID:137013-1778889600-1778975999@www.space-villers.fr
SUMMARY:170 ANS DE VILLERS (1856/2026)
DESCRIPTION:PORTES OUVERTES DE L APVSM AU VILLARE (exposition de fossiles\, documents et renseignements)
URL:https://www.space-villers.fr/evenement/170-ans-de-villers-1856-2026/
LOCATION:Villare
CATEGORIES:Culture
ATTACH;FMTTYPE=image/jpeg:https://www.space-villers.fr/wp-content/uploads/2026/03/Amonites-1.jpg
END:VEVENT
BEGIN:VEVENT
DTSTART;VALUE=DATE:20260516
DTEND;VALUE=DATE:20260517
DTSTAMP:20260424T075205
CREATED:20260402T090313Z
LAST-MODIFIED:20260402T090313Z
UID:137085-1778889600-1778975999@www.space-villers.fr
SUMMARY:170 ans de Villers-sur-mer
DESCRIPTION:Pour célébrer ses 170 ans\, Villers-sur-Mer vous invite à un voyage dans le temps où chaque habitant devient acteur de l’histoire ! L’objectif est de faire revivre ensemble les moments forts qui ont marqué la ville depuis sa fondation. \nLe temps d’une journée\, la cité balnéaire retrouvera tout son éclat d’antan : expositions\, animations musicales\, reconstitutions historiques et tenues d’époque animeront les rues. Une occasion unique de mettre en lumière le patrimoine et les personnalités qui font la fierté de Villers.
URL:https://www.space-villers.fr/evenement/170-ans-de-villers-sur-mer/
CATEGORIES:Animations,Événements
ATTACH;FMTTYPE=image/png:https://www.space-villers.fr/wp-content/uploads/2026/04/AGENDA-170-ans-de-Villers-sur-Mer.png
END:VEVENT
BEGIN:VEVENT
DTSTART;TZID=Europe/Paris:20260520T140000
DTEND;TZID=Europe/Paris:20260520T170000
DTSTAMP:20260424T075205
CREATED:20260325T150951Z
LAST-MODIFIED:20260325T150951Z
UID:137058-1779285600-1779296400@www.space-villers.fr
SUMMARY:Goûter des séniors - conférence - quizz
DESCRIPTION:Loto\, thé dansant\, jeux\,… tous les mercredis après midi la Ville de Villers-sur-mer\, vous propose une activité à l’occasion du goûter des séniors. \nCe mercredi 20 mai la ville vous propose une activité conférence – quizz de 14h à 17h. \nVous souhaitez participer ? Le goûter des seniors est gratuit et ouvert à tous les résidents villersois(es)\, qu’ils soient en résidence principale ou secondaire\, âgés de plus de 60 ans et détenteurs de la carte « Seniors Villers » \nComment obtenir votre carte ?\nRendez-vous au bureau du CCAS avec :\n-> Une pièce d’identité.\n-> Une photo récente.\n-> Un justificatif de domicile. \nInfos pratiques:\nDate : tous les mercredis\nHoraires : 14h -17h\nLieu : salle panoramique du casino
URL:https://www.space-villers.fr/evenement/gouter-des-seniors-conference-quizz/
CATEGORIES:Adulte,Animations
ATTACH;FMTTYPE=image/webp:https://www.space-villers.fr/wp-content/uploads/2025/06/p25-gouter-des-seniors-03-300x225-1.webp
END:VEVENT
BEGIN:VEVENT
DTSTART;TZID=Europe/Paris:20260521T100000
DTEND;TZID=Europe/Paris:20260526T180000
DTSTAMP:20260424T075205
CREATED:20260323T110933Z
LAST-MODIFIED:20260323T110933Z
UID:136982-1779357600-1779818400@www.space-villers.fr
SUMMARY:Exposition "De la Matière à la Lumière" par Denis Prieur
DESCRIPTION:De la Matière à la lumière réunit une série de peintures explorant le passage de la densité à l’éclat. Par un travail de textures\, de strates et de reliefs\, l’artiste fait émerger la lumière du coeur même de la matière. Chaque oeuvre propose une expérience sensible où profondeur\, transparence et révélation dialoguent\, invitant le regard à un cheminement intérieur. \nARTISTE : Denis Prieur \nInfos pratiques :\nLieu : Le VillareDates : du 21 au 26 mai\nHoraires :Du lundi au dimanche de 10h à 12h et de 14h à 18h\nEntrée gratuite
URL:https://www.space-villers.fr/evenement/exposition-de-la-matiere-a-la-lumiere-par-denis-prieur/
LOCATION:Le Villare\, 26 Rue du Général de Gaulle\, Villers-sur-Mer\, 14640\, France
CATEGORIES:Adulte,Culture,Exposition
ATTACH;FMTTYPE=image/jpeg:https://www.space-villers.fr/wp-content/uploads/2026/03/Kato-Zakros-un-ete-en-Crete-Denis-Prieur.jpg
ORGANIZER;CN="Epic Space":MAILTO:contact@space-villers.fr
END:VEVENT
BEGIN:VEVENT
DTSTART;TZID=Europe/Paris:20260523T133000
DTEND;TZID=Europe/Paris:20260523T173000
DTSTAMP:20260424T075205
CREATED:20260331T124432Z
LAST-MODIFIED:20260331T124432Z
UID:137017-1779543000-1779557400@www.space-villers.fr
SUMMARY:ASSEMBLEE GENERALE DE L'APVSM
DESCRIPTION:ASSEMBLEE GENERALE
URL:https://www.space-villers.fr/evenement/assemblee-generale-de-lapvsm/
LOCATION:Salle Bagot
CATEGORIES:Culture
ATTACH;FMTTYPE=image/jpeg:https://www.space-villers.fr/wp-content/uploads/2026/03/Amonites.jpg
GEO:49.320597099366;-0.0024712044915587
END:VEVENT
BEGIN:VEVENT
DTSTART;TZID=Europe/Paris:20260523T180000
DTEND;TZID=Europe/Paris:20260523T203000
DTSTAMP:20260424T075205
CREATED:20260331T124315Z
LAST-MODIFIED:20260331T124315Z
UID:137022-1779559200-1779568200@www.space-villers.fr
SUMMARY:YANN SAMSON " LES MICRO-FOSSILES"
DESCRIPTION:EXPOSE MENSUEL PAR YANN SAMSON membre de l’APSVM puis séance de détermination de fossiles puis repas partagé (chacun / chacune apporte à manger et à boire)
URL:https://www.space-villers.fr/evenement/yann-samson-les-micro-fossiles/
LOCATION:Salle Bagot
CATEGORIES:Culture
ATTACH;FMTTYPE=image/jpeg:https://www.space-villers.fr/wp-content/uploads/2026/03/Amonites.jpg
GEO:49.320597099366;-0.0024712044915587
END:VEVENT
BEGIN:VEVENT
DTSTART;TZID=Europe/Paris:20260527T140000
DTEND;TZID=Europe/Paris:20260527T170000
DTSTAMP:20260424T075205
CREATED:20260325T151057Z
LAST-MODIFIED:20260325T151057Z
UID:137060-1779890400-1779901200@www.space-villers.fr
SUMMARY:Goûter des séniors - jeux
DESCRIPTION:Loto\, thé dansant\, jeux\,… tous les mercredis après midi la Ville de Villers-sur-mer\, vous propose une activité à l’occasion du goûter des séniors. \nCe mercredi 27 mai la ville vous propose une activité jeux de 14h à 17h. \nVous souhaitez participer ? Le goûter des seniors est gratuit et ouvert à tous les résidents villersois(es)\, qu’ils soient en résidence principale ou secondaire\, âgés de plus de 60 ans et détenteurs de la carte « Seniors Villers » \nComment obtenir votre carte ?\nRendez-vous au bureau du CCAS avec :\n-> Une pièce d’identité.\n-> Une photo récente.\n-> Un justificatif de domicile. \nInfos pratiques:\nDate : tous les mercredis\nHoraires : 14h -17h\nLieu : salle panoramique du casino
URL:https://www.space-villers.fr/evenement/gouter-des-seniors-jeux-4/
CATEGORIES:Adulte,Animations
ATTACH;FMTTYPE=image/jpeg:https://www.space-villers.fr/wp-content/uploads/2024/03/mercredi_seniors02-1-scaled-3r9VhB.jpeg
END:VEVENT
BEGIN:VEVENT
DTSTART;TZID=Europe/Paris:20261031T180000
DTEND;TZID=Europe/Paris:20261031T190000
DTSTAMP:20260424T075205
CREATED:20260331T123815Z
LAST-MODIFIED:20260331T123815Z
UID:137026-1793469600-1793473200@www.space-villers.fr
SUMMARY:EXPOSE : CHANGEMENTS A LA LIMITE DU CALOVIEN-OXFORDIEN
DESCRIPTION:EXPOSE MENSUEL PAR PROSPER CARLIS -membre du Conseil d’Administration de l ‘APVSM- séance de détermination de fossiles et pot amical
URL:https://www.space-villers.fr/evenement/expose-changements-a-la-limite-du-calovien-oxfordien/
LOCATION:Salle Bagot
CATEGORIES:Culture
ATTACH;FMTTYPE=image/jpeg:https://www.space-villers.fr/wp-content/uploads/2026/03/Amonites.jpg
GEO:49.320597099366;-0.0024712044915587
END:VEVENT
BEGIN:VEVENT
DTSTART;TZID=Europe/Paris:20261128T180000
DTEND;TZID=Europe/Paris:20261128T190000
DTSTAMP:20260424T075205
CREATED:20260331T123629Z
LAST-MODIFIED:20260331T123629Z
UID:137031-1795888800-1795892400@www.space-villers.fr
SUMMARY:Exposé LA COLLECTION CARPENTIER par Jérôme TABOUEL
DESCRIPTION:Exposé mensuel par Jérôme Tabouel -Docteur en géologie à la Fabrique des Savoirs -Musée d’Elbeuf\nUne séance de détermination des fossiles et pot amical
URL:https://www.space-villers.fr/evenement/expose-la-collection-carpentier-par-jerome-tabouel/
LOCATION:Salle Bagot
CATEGORIES:Culture
ATTACH;FMTTYPE=image/jpeg:https://www.space-villers.fr/wp-content/uploads/2026/03/Amonites.jpg
GEO:49.320597099366;-0.0024712044915587
END:VEVENT
BEGIN:VEVENT
DTSTART;VALUE=DATE:20261205
DTEND;VALUE=DATE:20261206
DTSTAMP:20260424T075205
CREATED:20260331T123436Z
LAST-MODIFIED:20260331T124038Z
UID:137035-1796428800-1796515199@www.space-villers.fr
SUMMARY:JOURNEE PORTE OUVERTE APVSM AU VILLARE
DESCRIPTION:Journée porte ouverte des locaux APVSM dans le cadre du TELETHON\, au Villare
URL:https://www.space-villers.fr/evenement/journee-porte-ouverte-apvsm-au-villare/
LOCATION:Le Villare\, 26 Rue du Général de Gaulle\, Villers-sur-Mer\, 14640\, France
CATEGORIES:Culture
ATTACH;FMTTYPE=image/jpeg:https://www.space-villers.fr/wp-content/uploads/2026/03/Amonites.jpg
END:VEVENT
END:VCALENDAR