BEGIN:VCALENDAR
VERSION:2.0
PRODID:-//Space Villers-sur-Mer - ECPv6.15.16//NONSGML v1.0//EN
CALSCALE:GREGORIAN
METHOD:PUBLISH
X-ORIGINAL-URL:https://www.space-villers.fr
X-WR-CALDESC:Évènements pour Space Villers-sur-Mer
REFRESH-INTERVAL;VALUE=DURATION:PT1H
X-Robots-Tag:noindex
X-PUBLISHED-TTL:PT1H
BEGIN:VTIMEZONE
TZID:Europe/Paris
BEGIN:DAYLIGHT
TZOFFSETFROM:+0100
TZOFFSETTO:+0200
TZNAME:CEST
DTSTART:20250330T010000
END:DAYLIGHT
BEGIN:STANDARD
TZOFFSETFROM:+0200
TZOFFSETTO:+0100
TZNAME:CET
DTSTART:20251026T010000
END:STANDARD
BEGIN:DAYLIGHT
TZOFFSETFROM:+0100
TZOFFSETTO:+0200
TZNAME:CEST
DTSTART:20260329T010000
END:DAYLIGHT
BEGIN:STANDARD
TZOFFSETFROM:+0200
TZOFFSETTO:+0100
TZNAME:CET
DTSTART:20261025T010000
END:STANDARD
BEGIN:DAYLIGHT
TZOFFSETFROM:+0100
TZOFFSETTO:+0200
TZNAME:CEST
DTSTART:20270328T010000
END:DAYLIGHT
BEGIN:STANDARD
TZOFFSETFROM:+0200
TZOFFSETTO:+0100
TZNAME:CET
DTSTART:20271031T010000
END:STANDARD
END:VTIMEZONE
BEGIN:VEVENT
DTSTART;TZID=Europe/Paris:20260314T180000
DTEND;TZID=Europe/Paris:20260314T194500
DTSTAMP:20260423T184104
CREATED:20260119T131322Z
LAST-MODIFIED:20260205T093613Z
UID:136647-1773511200-1773517500@www.space-villers.fr
SUMMARY:La Saison Théâtrale : « Ils en sortiront changés »
DESCRIPTION:Dans le cadre de La saison théâtrale\, qui vous donne rendez-vous chaque mois avec le plaisir du spectacle vivant\, laissez vous porter par une comédie avec des personnages hauts en couleur le samedi 14 mars. \nLa troupe de l’Escarpin présente la pièce Ils en sortiront changés .  \nDans un bois\, deux femmes « gourous » mènent un stage pour retrouver de la sérénité. Un ensemble de personnage (…) vont alors participer à ce stage pour changer leur karma. Entre câlins aux arbres et ateliers du rire\, ils vont progressivement évoluer…  \nInformations pratiques :\nDate : samedi 14 mars\nHoraire : 18h00\nLieu : Cinéma\nDurée : 1h30\nTarif : participation libre au chapeau\nBilletterie :  ici
URL:https://www.space-villers.fr/evenement/la-saison-theatrale-ils-en-sortiront-changes/
LOCATION:Salle de cinéma du Casino\, Place du Lieutenant Fernand Fanneau\, Villers sur mer\, 14640\, France
CATEGORIES:Adulte,Culture
ATTACH;FMTTYPE=image/png:https://www.space-villers.fr/wp-content/uploads/2026/01/Visuel-agenda-Saison-theatrale.png
ORGANIZER;CN="Epic Space":MAILTO:contact@space-villers.fr
GEO:49.324840111795;-0.0015295037014518
X-APPLE-STRUCTURED-LOCATION;VALUE=URI;X-ADDRESS=Salle de cinéma du Casino Place du Lieutenant Fernand Fanneau Villers sur mer 14640 France;X-APPLE-RADIUS=500;X-TITLE=Place du Lieutenant Fernand Fanneau:geo:-0.0015295037014518,49.324840111795
END:VEVENT
BEGIN:VEVENT
DTSTART;TZID=Europe/Paris:20260215T160000
DTEND;TZID=Europe/Paris:20260215T170000
DTSTAMP:20260423T184104
CREATED:20260112T155645Z
LAST-MODIFIED:20260213T094809Z
UID:136459-1771171200-1771174800@www.space-villers.fr
SUMMARY:La Saison Théâtrale (jeunesse) : "Le Petit Poucet"
DESCRIPTION:Dans le cadre de La saison théâtrale\, qui vous donne rendez-vous chaque mois avec le plaisir du spectacle vivant\, embarquez pour une aventure pleine d’imagination le dimanche 15 février. \nLa Compagnie Krizo Théâtre présente la pièce Le Petit Poucet par Caroline Bissauge. \nTout commence dans une chambre… Une petite fille est punie car elle refuse de manger ses haricots verts. Furieuse contre ses parents\, elle envie Le Petit Poucet\, ce héros du conte qui n’est jamais obligé de finir son assiette. Dans un élan de mauvaise foi enfantine\, elle décide de jouer au Petit Poucet. Sa chambre se transforme peu à peu en forêt\, et\, par la force de son imagination\, elle entraîne le public dans une véritable forêt enchantée\, peuplée de surprises et de détours inattendus. \nInformations pratiques :\nDate : dimanche 15 février\nHoraire : 16h\nLieu : Cinéma\nDurée : 45 minutes\nTarif : 5€\nBilletterie :  ici\nA partir de 4 ans
URL:https://www.space-villers.fr/evenement/la-saison-theatrale-jeunesse-le-petit-poucet/
LOCATION:Salle de cinéma du Casino\, Place du Lieutenant Fernand Fanneau\, Villers sur mer\, 14640\, France
CATEGORIES:Culture,Enfant
ATTACH;FMTTYPE=image/png:https://www.space-villers.fr/wp-content/uploads/2026/01/Visuel-agenda-Saison-theatrale-Fevrier.png
ORGANIZER;CN="Epic Space":MAILTO:contact@space-villers.fr
GEO:49.324840111795;-0.0015295037014518
X-APPLE-STRUCTURED-LOCATION;VALUE=URI;X-ADDRESS=Salle de cinéma du Casino Place du Lieutenant Fernand Fanneau Villers sur mer 14640 France;X-APPLE-RADIUS=500;X-TITLE=Place du Lieutenant Fernand Fanneau:geo:-0.0015295037014518,49.324840111795
END:VEVENT
BEGIN:VEVENT
DTSTART;TZID=Europe/Paris:20260111T153000
DTEND;TZID=Europe/Paris:20260111T163000
DTSTAMP:20260423T184104
CREATED:20260105T154347Z
LAST-MODIFIED:20260205T093602Z
UID:136429-1768145400-1768149000@www.space-villers.fr
SUMMARY:La Saison Théâtrale : « 14 juillet à la maison de retraite »
DESCRIPTION:Dans le cadre de La saison théâtrale\, qui vous donne rendez-vous chaque mois avec le plaisir du spectacle vivant\, laissez-vous tenter par une comédie aussi tendre qu’hilarante ce dimanche 11 janvier. \nLa troupe de théâtre amateur de Dozulé « Les Quiproquoi ? » vous propose « 14 juillet à la maison de retraite ». \nLe directeur d’une maison de retraite doit s’absenter 10 jours et laisse les clés à ses employés. Ces derniers en profitent pour instaurer quelques innovations dont notamment l’organisation du bal du 14 juillet…Apprenant leur moment d’égarement\, le directeur anticipe son retour. Il se trouve alors confronté à la complicité entre les employés. \nInformations pratiques :\nDate : dimanche 11 janvier\nHoraire : 15h30\nLieu : Cinéma du casino\nDurée : 1h30\nBilletterie : sur place uniquement – sans réservation\nTarif : participation libre au chapeau
URL:https://www.space-villers.fr/evenement/la-saison-theatrale-14-juillet-a-la-maison-de-retraite/
LOCATION:Salle de cinéma du Casino\, Place du Lieutenant Fernand Fanneau\, Villers sur mer\, 14640\, France
CATEGORIES:Culture
ATTACH;FMTTYPE=image/png:https://www.space-villers.fr/wp-content/uploads/2026/01/Visuel-agenda-Saison-theatrale-janvier.png
ORGANIZER;CN="Epic Space":MAILTO:contact@space-villers.fr
GEO:49.324840111795;-0.0015295037014518
X-APPLE-STRUCTURED-LOCATION;VALUE=URI;X-ADDRESS=Salle de cinéma du Casino Place du Lieutenant Fernand Fanneau Villers sur mer 14640 France;X-APPLE-RADIUS=500;X-TITLE=Place du Lieutenant Fernand Fanneau:geo:-0.0015295037014518,49.324840111795
END:VEVENT
END:VCALENDAR