BEGIN:VCALENDAR
VERSION:2.0
PRODID:-//Space Villers-sur-Mer - ECPv6.15.16//NONSGML v1.0//EN
CALSCALE:GREGORIAN
METHOD:PUBLISH
X-ORIGINAL-URL:https://www.space-villers.fr
X-WR-CALDESC:Évènements pour Space Villers-sur-Mer
REFRESH-INTERVAL;VALUE=DURATION:PT1H
X-Robots-Tag:noindex
X-PUBLISHED-TTL:PT1H
BEGIN:VTIMEZONE
TZID:Europe/Paris
BEGIN:DAYLIGHT
TZOFFSETFROM:+0100
TZOFFSETTO:+0200
TZNAME:CEST
DTSTART:20250330T010000
END:DAYLIGHT
BEGIN:STANDARD
TZOFFSETFROM:+0200
TZOFFSETTO:+0100
TZNAME:CET
DTSTART:20251026T010000
END:STANDARD
BEGIN:DAYLIGHT
TZOFFSETFROM:+0100
TZOFFSETTO:+0200
TZNAME:CEST
DTSTART:20260329T010000
END:DAYLIGHT
BEGIN:STANDARD
TZOFFSETFROM:+0200
TZOFFSETTO:+0100
TZNAME:CET
DTSTART:20261025T010000
END:STANDARD
BEGIN:DAYLIGHT
TZOFFSETFROM:+0100
TZOFFSETTO:+0200
TZNAME:CEST
DTSTART:20270328T010000
END:DAYLIGHT
BEGIN:STANDARD
TZOFFSETFROM:+0200
TZOFFSETTO:+0100
TZNAME:CET
DTSTART:20271031T010000
END:STANDARD
END:VTIMEZONE
BEGIN:VEVENT
DTSTART;TZID=Europe/Paris:20260419T160000
DTEND;TZID=Europe/Paris:20260419T170000
DTSTAMP:20260421T094854
CREATED:20260120T085952Z
LAST-MODIFIED:20260205T093633Z
UID:136650-1776614400-1776618000@www.space-villers.fr
SUMMARY:La Saison Théâtrale (jeunesse) : « Contes fleuris pour petites oreilles à butiner »
DESCRIPTION:Dans le cadre de La saison théâtrale\, qui vous donne rendez-vous chaque mois avec le plaisir du spectacle vivant\, laissez vous porter par ce spectacle plein de poésie et de douceur le dimanche 19 avril. \nLa Compagnie En faim de contes présente « Contes fleuris pour petites oreilles à butiner » avec Lorraine Ollagnier comédienne\, Marion Motte\, musicienne. \nSoudain ça s’est réveillé. De la terre endormie\, des milliers d’ailes se déploient\, des bourgeons explosent sur les branches\, pas de doute\, le printemps est là : tintamarre de senteurs\, éruption de couleurs ! Mais l’hiver a encore du mal à nous quitter et parfois nous rappelle à son bon souvenir avec quelques giboulées. Pars Hiver\, tu as fait ton temps ! Nous allons danser et chanter pour fêter le printemps. Nous allons nous dire de nouvelles histoires toutes fraîches de rosée\, des contes bariolés\, et sauterons la barrière du jardin pour brasser des bouquets de jonquilles\, de tulipes pour finir la journée en riant sous les cerisiers en fleurs… Pars Hiver\, tu as fait ton temps\, il est temps pour nous à présent d’écouter tout ce qu’a à nous dire le Printemps… \nInformations pratiques : \nDate : dimanche 19 avril 2026\nHoraire : 16h00\nLieu : Salle panoramique\nDurée : 45 minutes\nTarif : 5 €\nBilletterie : ici\nÀ partir de 4 ans
URL:https://www.space-villers.fr/evenement/la-saison-theatrale-jeunesse-contes-fleuris-pour-petites-oreilles-a-butiner/
LOCATION:Salle panoramique du Casino\, Place du Lieutenant Fernand Fanneau\,\, Villers-sur-Mer\, 14640\, France
CATEGORIES:Culture,Enfant
ATTACH;FMTTYPE=image/png:https://www.space-villers.fr/wp-content/uploads/2026/01/Visuel-agenda-Saison-theatrale-avril.png
ORGANIZER;CN="Epic Space":MAILTO:contact@space-villers.fr
GEO:49.324840111795;-0.0015295037014518
X-APPLE-STRUCTURED-LOCATION;VALUE=URI;X-ADDRESS=Salle panoramique du Casino Place du Lieutenant Fernand Fanneau Villers-sur-Mer 14640 France;X-APPLE-RADIUS=500;X-TITLE=Place du Lieutenant Fernand Fanneau\,:geo:-0.0015295037014518,49.324840111795
END:VEVENT
BEGIN:VEVENT
DTSTART;TZID=Europe/Paris:20260418T103000
DTEND;TZID=Europe/Paris:20260418T170000
DTSTAMP:20260421T094854
CREATED:20260401T132731Z
LAST-MODIFIED:20260401T133525Z
UID:137076-1776508200-1776531600@www.space-villers.fr
SUMMARY:La fête du Printemps
DESCRIPTION:Le samedi 18 avril\, la place Villers 2000 vous invite à une journée festive et gourmande pour fêter l’arrivée du printemps ! \nAu programme :\nUn grand banquet en plein air avec food truck\, de quoi régaler petits et grands !\nAmbiance musicale : Vous allez danser et chanter avec le groupe Gouach Orchestra !\n Atelier floral : animé par Fleur d’Oranger\, initiez-vous a l’art floral (de 15h à 17h\, 25€/personne\, place limitées à 30 personnes) réservation au 02 31 87 99 90\nUn moment de partage : Un verre entre amis\, un déjeuner en famille… L’occasion parfaite pour profiter ensemble du printemps !\n\n\nInfos pratiques :\nSamedi 18 avril 2026\n10h30 – 17h00\nPlace Villers 2000
URL:https://www.space-villers.fr/evenement/la-fete-du-printemps/
LOCATION:Villers 2000\, Villers 2000\, Villers-sur-Mer\, 14640
ATTACH;FMTTYPE=image/png:https://www.space-villers.fr/wp-content/uploads/2026/04/AGENDA-fete-du-printemps.png
ORGANIZER;CN="Epic Space":MAILTO:contact@space-villers.fr
END:VEVENT
BEGIN:VEVENT
DTSTART;TZID=Europe/Paris:20260402T100000
DTEND;TZID=Europe/Paris:20260406T180000
DTSTAMP:20260421T094854
CREATED:20260320T114831Z
LAST-MODIFIED:20260323T103832Z
UID:136958-1775124000-1775498400@www.space-villers.fr
SUMMARY:Exposition "Echos de nature" par Fabienne Kawass et Michel Bertois
DESCRIPTION:Cette exposition invite à une immersion sensible au coeur de la nature\, explorée à travers deux regards artistiques complémentaires. La beauté de la nature y est mise à l’honneur sous toutes ses formes : végétale\, nourricière\, florale\, mais aussi féminine. Les créations exposées vous invitent à redécouvrir les paysages villersois et normands. L’ensemble dialogue dans un même élan poétique où les oeuvres mêlent aquarelles et peintures acryliques\, traversant rivières\, campagnes\, forêts\, montagnes et rivages. Une déambulation artistique où le visiteur est invité à ralentir\, rêver et se ressourcer. \nARTISTES : Fabienne Kawass et Michel Bertois\, grands gagnants de la Journée des Peintres 2025. \nInfos pratiques :\nLieu : Le VillareDates : du 2 avril au 6 avril.\nHoraires : Du lundi au vendredi de 10 h à 12 h et de 14 h à 18 h\, le samedi et dimanche de 10 h à 19 h 30.\nEntrée gratuite
URL:https://www.space-villers.fr/evenement/exposition-echos-de-nature/
LOCATION:Le Villare\, 26 Rue du Général de Gaulle\, Villers-sur-Mer\, 14640\, France
CATEGORIES:Adulte,Culture,Exposition
ATTACH;FMTTYPE=image/jpeg:https://www.space-villers.fr/wp-content/uploads/2026/03/Villers-sur-Mer-Fabienne-Kawass.jpg
ORGANIZER;CN="Epic Space":MAILTO:contact@space-villers.fr
END:VEVENT
BEGIN:VEVENT
DTSTART;TZID=Europe/Paris:20260314T180000
DTEND;TZID=Europe/Paris:20260314T194500
DTSTAMP:20260421T094854
CREATED:20260119T131322Z
LAST-MODIFIED:20260205T093613Z
UID:136647-1773511200-1773517500@www.space-villers.fr
SUMMARY:La Saison Théâtrale : « Ils en sortiront changés »
DESCRIPTION:Dans le cadre de La saison théâtrale\, qui vous donne rendez-vous chaque mois avec le plaisir du spectacle vivant\, laissez vous porter par une comédie avec des personnages hauts en couleur le samedi 14 mars. \nLa troupe de l’Escarpin présente la pièce Ils en sortiront changés .  \nDans un bois\, deux femmes « gourous » mènent un stage pour retrouver de la sérénité. Un ensemble de personnage (…) vont alors participer à ce stage pour changer leur karma. Entre câlins aux arbres et ateliers du rire\, ils vont progressivement évoluer…  \nInformations pratiques :\nDate : samedi 14 mars\nHoraire : 18h00\nLieu : Cinéma\nDurée : 1h30\nTarif : participation libre au chapeau\nBilletterie :  ici
URL:https://www.space-villers.fr/evenement/la-saison-theatrale-ils-en-sortiront-changes/
LOCATION:Salle de cinéma du Casino\, Place du Lieutenant Fernand Fanneau\, Villers sur mer\, 14640\, France
CATEGORIES:Adulte,Culture
ATTACH;FMTTYPE=image/png:https://www.space-villers.fr/wp-content/uploads/2026/01/Visuel-agenda-Saison-theatrale.png
ORGANIZER;CN="Epic Space":MAILTO:contact@space-villers.fr
GEO:49.324840111795;-0.0015295037014518
X-APPLE-STRUCTURED-LOCATION;VALUE=URI;X-ADDRESS=Salle de cinéma du Casino Place du Lieutenant Fernand Fanneau Villers sur mer 14640 France;X-APPLE-RADIUS=500;X-TITLE=Place du Lieutenant Fernand Fanneau:geo:-0.0015295037014518,49.324840111795
END:VEVENT
BEGIN:VEVENT
DTSTART;TZID=Europe/Paris:20260228T190000
DTEND;TZID=Europe/Paris:20260228T233000
DTSTAMP:20260421T094854
CREATED:20260120T104845Z
LAST-MODIFIED:20260205T124342Z
UID:136656-1772305200-1772321400@www.space-villers.fr
SUMMARY:Boxing Woman Show
DESCRIPTION:Le samedi 28 février\, le Gymnase André Salesse accueille le Boxing Woman Show\, une soirée sportive et artistique qui met à l’honneur les femmes\, leur talent\, leur engagement et leur force. \nDe 19h à 23h30\, le public assistera à de nombreux combats de boxe amateurs féminins\, réunissant les meilleures boxeuses normandes\, ainsi qu’à des combats opposant de jeunes boxeurs villersois à des combattants venus de Bretagne. \nLa soirée sera ponctuée de performances musicales avec deux chanteuses\, dont la Villersoise Éléonore Marotte\, qui a récemment sortie un album\, et animée par Baff Percu\, DJ professionnel percussionniste. Un couple de danseurs professionnels de l’association Viédanse proposera également une performance chorégraphique sur le thème du combat. \nBuvette et restauration (sandwichs) sur place. \nCet événement est en partenariat avec le restaurant l’Aigue Marine.  \nInformations pratiques :\nDate : Samedi 28 février 2026\nOuverture des portes : 18h30\nHoraires : 19h -23h30\nLieu : Gymnase André Salesse (entrée rue du Stade)\nTarif : 10 € / Gratuit pour les moins de 12 ans\nBilletterie : à partir du 4 février chez notre partenaire L’Aigue Marine (sur les horaires d’ouverture)
URL:https://www.space-villers.fr/evenement/boxing-woman-show/
LOCATION:Gymnase André Salesse\, Rue du Stade André Salesse\, Villers-sur-Mer\, 14640
CATEGORIES:Adulte,Sport
ATTACH;FMTTYPE=image/png:https://www.space-villers.fr/wp-content/uploads/2026/01/VISUEL-AGENDA-GALA-DE-BOXE.png
ORGANIZER;CN="Epic Space":MAILTO:contact@space-villers.fr
END:VEVENT
BEGIN:VEVENT
DTSTART;TZID=Europe/Paris:20260225T143000
DTEND;TZID=Europe/Paris:20260225T163000
DTSTAMP:20260421T094854
CREATED:20260112T152211Z
LAST-MODIFIED:20260209T155600Z
UID:136450-1772029800-1772037000@www.space-villers.fr
SUMMARY:Les rendez-vous des p'tits créatifs : Atelier Saint Valentin
DESCRIPTION:Inscrivez vos enfants à un atelier créatif spécial Saint-Valentin ! Fabriquez un petit cadeau unique\, plein de couleurs et d’imagination\, pour dire « Je t’aime » à quelqu’un qui compte pour eux : papa\, maman\, un copain\, une copine\, papy\, mamie… Une activité ludique et originale\, idéale pour stimuler la créativité des enfants. \nChaque mois\, un nouveau rendez-vous créatif permettra à vos enfants de laisser libre cours à leur imagination et de découvrir de nouvelles activités manuelles ! \nInformations pratiques :\nDate : Mercredi 25 février\nHoraires : 14h30 et 15h30\nLieu : Le Villare\nDurée : 45 min\nTarif : 5€\nÂge minimum : 5 ans\nPrésence obligatoire d’un adulte\nInscription : ici
URL:https://www.space-villers.fr/evenement/les-rendez-vous-des-petits-creatifs-atelier-saint-valentin/
LOCATION:Villare
CATEGORIES:Enfant
ATTACH;FMTTYPE=image/png:https://www.space-villers.fr/wp-content/uploads/2026/01/Visuel_agenda_-_Les_Rendez-vous_des_p_tits_creatifs_-_Fevrier.png
ORGANIZER;CN="Epic Space":MAILTO:contact@space-villers.fr
END:VEVENT
BEGIN:VEVENT
DTSTART;TZID=Europe/Paris:20260215T160000
DTEND;TZID=Europe/Paris:20260215T170000
DTSTAMP:20260421T094854
CREATED:20260112T155645Z
LAST-MODIFIED:20260213T094809Z
UID:136459-1771171200-1771174800@www.space-villers.fr
SUMMARY:La Saison Théâtrale (jeunesse) : "Le Petit Poucet"
DESCRIPTION:Dans le cadre de La saison théâtrale\, qui vous donne rendez-vous chaque mois avec le plaisir du spectacle vivant\, embarquez pour une aventure pleine d’imagination le dimanche 15 février. \nLa Compagnie Krizo Théâtre présente la pièce Le Petit Poucet par Caroline Bissauge. \nTout commence dans une chambre… Une petite fille est punie car elle refuse de manger ses haricots verts. Furieuse contre ses parents\, elle envie Le Petit Poucet\, ce héros du conte qui n’est jamais obligé de finir son assiette. Dans un élan de mauvaise foi enfantine\, elle décide de jouer au Petit Poucet. Sa chambre se transforme peu à peu en forêt\, et\, par la force de son imagination\, elle entraîne le public dans une véritable forêt enchantée\, peuplée de surprises et de détours inattendus. \nInformations pratiques :\nDate : dimanche 15 février\nHoraire : 16h\nLieu : Cinéma\nDurée : 45 minutes\nTarif : 5€\nBilletterie :  ici\nA partir de 4 ans
URL:https://www.space-villers.fr/evenement/la-saison-theatrale-jeunesse-le-petit-poucet/
LOCATION:Salle de cinéma du Casino\, Place du Lieutenant Fernand Fanneau\, Villers sur mer\, 14640\, France
CATEGORIES:Culture,Enfant
ATTACH;FMTTYPE=image/png:https://www.space-villers.fr/wp-content/uploads/2026/01/Visuel-agenda-Saison-theatrale-Fevrier.png
ORGANIZER;CN="Epic Space":MAILTO:contact@space-villers.fr
GEO:49.324840111795;-0.0015295037014518
X-APPLE-STRUCTURED-LOCATION;VALUE=URI;X-ADDRESS=Salle de cinéma du Casino Place du Lieutenant Fernand Fanneau Villers sur mer 14640 France;X-APPLE-RADIUS=500;X-TITLE=Place du Lieutenant Fernand Fanneau:geo:-0.0015295037014518,49.324840111795
END:VEVENT
BEGIN:VEVENT
DTSTART;TZID=Europe/Paris:20260213T190000
DTEND;TZID=Europe/Paris:20260213T203000
DTSTAMP:20260421T094854
CREATED:20260203T142910Z
LAST-MODIFIED:20260203T142910Z
UID:136793-1771009200-1771014600@www.space-villers.fr
SUMMARY:Réunion publique : présentation du calendrier des événements 2026
DESCRIPTION:La Ville de Villers-sur-Mer invite les Villersois à une réunion publique de présentation des événements culturels et sportifs de 2026\, animée par l’EPIC d’animation SPACE. \nL’occasion de découvrir en avant-première une programmation riche\, renouvelée et ponctuée de nombreux temps forts\, dont un événement autour des 170 ans de Villers-sur-Mer \nLa présentation sera suivie d’un temps d’échanges et de questions-réponses avec le public \nInformations pratiques :\nDate : vendredi 13 février\nHoraire : 19h\nLieu : Salle panoramique
URL:https://www.space-villers.fr/evenement/reunion-publique-presentation-du-calendrier-des-evenements-2026/
LOCATION:Salle panoramique du Casino\, Place du Lieutenant Fernand Fanneau\,\, Villers-sur-Mer\, 14640\, France
CATEGORIES:Culture,Événements,Sport
ATTACH;FMTTYPE=image/png:https://www.space-villers.fr/wp-content/uploads/2026/02/Visuel-agenda-24.png
ORGANIZER;CN="Epic Space":MAILTO:contact@space-villers.fr
GEO:49.324840111795;-0.0015295037014518
X-APPLE-STRUCTURED-LOCATION;VALUE=URI;X-ADDRESS=Salle panoramique du Casino Place du Lieutenant Fernand Fanneau Villers-sur-Mer 14640 France;X-APPLE-RADIUS=500;X-TITLE=Place du Lieutenant Fernand Fanneau\,:geo:-0.0015295037014518,49.324840111795
END:VEVENT
BEGIN:VEVENT
DTSTART;TZID=Europe/Paris:20260117T150000
DTEND;TZID=Europe/Paris:20260117T150000
DTSTAMP:20260421T094854
CREATED:20251210T140608Z
LAST-MODIFIED:20260114T092902Z
UID:136367-1768662000-1768662000@www.space-villers.fr
SUMMARY:Les rendez-vous des p'tits créatifs : Atelier couronne des rois & goûter
DESCRIPTION:Inscrivez vos enfants à un atelier ludique où la créativité est à l’honneur ! Lors de cet atelier\, ils découvriront une astuce pour fabriquer une couronne originale et colorée à leur image. Une activité facile et amusante à réaliser\, accompagnée d’un goûter autour de la galette des rois. Parfait pour les enfants dès 5 ans. \nChaque mois\, un nouveau rendez-vous créatif permettra à vos enfants de laisser libre cours à leur imagination et de découvrir de nouvelles activités manuelles ! \nInformations pratiques :\nDate : Samedi 17 janvier\nHoraires : 15h et 15h30\nLieu : Le Villare\nDurée : 1h\nTarif : 5€\nPrésence obligatoire d’un adulte\nInscription 
URL:https://www.space-villers.fr/evenement/les-rendez-vous-des-petits-creatifs-couronne-epiphanie-gouter-galette-des-rois/
LOCATION:Le Villare\, 26 Rue du Général de Gaulle\, Villers-sur-Mer\, 14640\, France
CATEGORIES:Animations,Enfant
ATTACH;FMTTYPE=image/png:https://www.space-villers.fr/wp-content/uploads/2025/12/visuel-agenda-Janvier.png
ORGANIZER;CN="Epic Space":MAILTO:contact@space-villers.fr
END:VEVENT
BEGIN:VEVENT
DTSTART;TZID=Europe/Paris:20260111T153000
DTEND;TZID=Europe/Paris:20260111T163000
DTSTAMP:20260421T094854
CREATED:20260105T154347Z
LAST-MODIFIED:20260205T093602Z
UID:136429-1768145400-1768149000@www.space-villers.fr
SUMMARY:La Saison Théâtrale : « 14 juillet à la maison de retraite »
DESCRIPTION:Dans le cadre de La saison théâtrale\, qui vous donne rendez-vous chaque mois avec le plaisir du spectacle vivant\, laissez-vous tenter par une comédie aussi tendre qu’hilarante ce dimanche 11 janvier. \nLa troupe de théâtre amateur de Dozulé « Les Quiproquoi ? » vous propose « 14 juillet à la maison de retraite ». \nLe directeur d’une maison de retraite doit s’absenter 10 jours et laisse les clés à ses employés. Ces derniers en profitent pour instaurer quelques innovations dont notamment l’organisation du bal du 14 juillet…Apprenant leur moment d’égarement\, le directeur anticipe son retour. Il se trouve alors confronté à la complicité entre les employés. \nInformations pratiques :\nDate : dimanche 11 janvier\nHoraire : 15h30\nLieu : Cinéma du casino\nDurée : 1h30\nBilletterie : sur place uniquement – sans réservation\nTarif : participation libre au chapeau
URL:https://www.space-villers.fr/evenement/la-saison-theatrale-14-juillet-a-la-maison-de-retraite/
LOCATION:Salle de cinéma du Casino\, Place du Lieutenant Fernand Fanneau\, Villers sur mer\, 14640\, France
CATEGORIES:Culture
ATTACH;FMTTYPE=image/png:https://www.space-villers.fr/wp-content/uploads/2026/01/Visuel-agenda-Saison-theatrale-janvier.png
ORGANIZER;CN="Epic Space":MAILTO:contact@space-villers.fr
GEO:49.324840111795;-0.0015295037014518
X-APPLE-STRUCTURED-LOCATION;VALUE=URI;X-ADDRESS=Salle de cinéma du Casino Place du Lieutenant Fernand Fanneau Villers sur mer 14640 France;X-APPLE-RADIUS=500;X-TITLE=Place du Lieutenant Fernand Fanneau:geo:-0.0015295037014518,49.324840111795
END:VEVENT
END:VCALENDAR