BEGIN:VCALENDAR
VERSION:2.0
PRODID:-//Space Villers-sur-Mer - ECPv6.15.16//NONSGML v1.0//EN
CALSCALE:GREGORIAN
METHOD:PUBLISH
X-ORIGINAL-URL:https://www.space-villers.fr
X-WR-CALDESC:Évènements pour Space Villers-sur-Mer
REFRESH-INTERVAL;VALUE=DURATION:PT1H
X-Robots-Tag:noindex
X-PUBLISHED-TTL:PT1H
BEGIN:VTIMEZONE
TZID:Europe/Paris
BEGIN:DAYLIGHT
TZOFFSETFROM:+0100
TZOFFSETTO:+0200
TZNAME:CEST
DTSTART:20250330T010000
END:DAYLIGHT
BEGIN:STANDARD
TZOFFSETFROM:+0200
TZOFFSETTO:+0100
TZNAME:CET
DTSTART:20251026T010000
END:STANDARD
BEGIN:DAYLIGHT
TZOFFSETFROM:+0100
TZOFFSETTO:+0200
TZNAME:CEST
DTSTART:20260329T010000
END:DAYLIGHT
BEGIN:STANDARD
TZOFFSETFROM:+0200
TZOFFSETTO:+0100
TZNAME:CET
DTSTART:20261025T010000
END:STANDARD
BEGIN:DAYLIGHT
TZOFFSETFROM:+0100
TZOFFSETTO:+0200
TZNAME:CEST
DTSTART:20270328T010000
END:DAYLIGHT
BEGIN:STANDARD
TZOFFSETFROM:+0200
TZOFFSETTO:+0100
TZNAME:CET
DTSTART:20271031T010000
END:STANDARD
END:VTIMEZONE
BEGIN:VEVENT
DTSTART;TZID=Europe/Paris:20260408T100000
DTEND;TZID=Europe/Paris:20260421T180000
DTSTAMP:20260421T074933
CREATED:20260320T115123Z
LAST-MODIFIED:20260323T104340Z
UID:136961-1775642400-1776794400@www.space-villers.fr
SUMMARY:Exposition "Or du temps" par Joëlle Ortega-Valverde
DESCRIPTION:Joëlle Ortega-Valverde\, artiste plasticienne\, sophrologue\, écrivaine\, vous présente sa nouvelle exposition. Or du temps… est une immersion dans l’univers de cette artiste singulière qui\, dans un mélange symbiotique de matières\, de couleurs et de mises en scène\, réunit différents univers baroque\, pop\, ethnique\, précieux\, pour construire une unité exquise qui mettra vos sens en émoi… \nARTISTE :  Joëlle Ortega-Valverde \nInfos pratiques :\nLieu : Le VillareDates : du 8 avril au 21 avril.\nHoraires :Du mardi au samedi\, de 10 h à 12 h et de 14 h à 18 h.\nEntrée gratuite
URL:https://www.space-villers.fr/evenement/136961/
LOCATION:Le Villare\, 26 Rue du Général de Gaulle\, Villers-sur-Mer\, 14640\, France
CATEGORIES:Adulte,Culture,Exposition
ATTACH;FMTTYPE=image/jpeg:https://www.space-villers.fr/wp-content/uploads/2026/03/Or-du-temps-Joelle-Ortega-Valverde.jpg
ORGANIZER;CN="Epic Space":MAILTO:contact@space-villers.fr
END:VEVENT
BEGIN:VEVENT
DTSTART;TZID=Europe/Paris:20260423T100000
DTEND;TZID=Europe/Paris:20260505T180000
DTSTAMP:20260421T074933
CREATED:20260323T104208Z
LAST-MODIFIED:20260323T104208Z
UID:136973-1776938400-1778004000@www.space-villers.fr
SUMMARY:Exposition "Lumière intérieur" par Hortense Haupais
DESCRIPTION:Lumière intérieur présente une série d’intérieurs modernes ouverts sur des paysages marins. L’artiste\, Hortense Haupais\, met en exergue le dialogue de la lumière et du silence par l’intermédiaire de lignes et de formes géométriques simples et épurées. Aussi\, l’absence d’être humain et la présence de certains objets tels que le fauteuil baigné de soleil\, la piscine idéalisée et la baie vitrée ouverte sur l’horizon nous invitent à la méditation et à la contemplation. \nARTISTE : Hortense Haupais \nInfos pratiques :\nLieu : Le VillareDates : du 23 avril au 5 mai\nHoraires : Du lundi au vendredi de 10 h à 12 h et de 14 h à 18 h\, le samedi et dimanche de 10 h à 12 h et de 14 h à 19 h 30\nEntrée gratuite
URL:https://www.space-villers.fr/evenement/exposition-lumiere-interieur-par-hortense-haupais/
LOCATION:Le Villare\, 26 Rue du Général de Gaulle\, Villers-sur-Mer\, 14640\, France
CATEGORIES:Adulte,Culture,Événements
ATTACH;FMTTYPE=image/jpeg:https://www.space-villers.fr/wp-content/uploads/2026/03/Lumiere-interieur-Hortense-Haupais.jpg
ORGANIZER;CN="Epic Space":MAILTO:contact@space-villers.fr
END:VEVENT
BEGIN:VEVENT
DTSTART;TZID=Europe/Paris:20260423T143000
DTEND;TZID=Europe/Paris:20260423T163000
DTSTAMP:20260421T074933
CREATED:20260323T132116Z
LAST-MODIFIED:20260323T132116Z
UID:136990-1776954600-1776961800@www.space-villers.fr
SUMMARY:Les rendez-vous des p'tits créatifs : Atelier crée ton livre "Mon monstre à moi "
DESCRIPTION:Les enfants deviennent auteurs et illustrateurs en créant leur propre livre à travers le dessin\, le collage et l’imagination. Page après page\, ils répondent à des questions ludiques pour inventer un monstre original… mais à leur image ! L’atelier se termine par la lecture des histoires. A partir de 4 ans. \nChaque mois\, un nouveau rendez-vous créatif permettra à vos enfants de laisser libre cours à leur imagination et de découvrir de nouvelles activités manuelles ! \nInformations pratiques :\nDate : Jeudi 23 avrilHoraires : 14h30 et 15h30Lieu : Le VillareDurée : 1hTarif : 5€Âge minimum : 4 ansLa responsabilité des enfants reste sous la surveillance des parents\, qui doivent rester présents pendant toute la durée de l’atelier.Inscriptions : ici 
URL:https://www.space-villers.fr/evenement/les-rendez-vous-des-ptits-creatifs-atelier-cree-ton-livre-mon-monstre-a-moi/
LOCATION:Le Villare\, 26 Rue du Général de Gaulle\, Villers-sur-Mer\, 14640\, France
CATEGORIES:Enfant
ATTACH;FMTTYPE=image/jpeg:https://www.space-villers.fr/wp-content/uploads/2026/03/Visuel-agenda-Les-Rendez-vous-des-ptits-creatifs-avril.jpg
ORGANIZER;CN="Epic Space":MAILTO:contact@space-villers.fr
END:VEVENT
BEGIN:VEVENT
DTSTART;TZID=Europe/Paris:20260425T110000
DTEND;TZID=Europe/Paris:20260426T183000
DTSTAMP:20260421T074933
CREATED:20260401T134109Z
LAST-MODIFIED:20260402T064236Z
UID:137079-1777114800-1777228200@www.space-villers.fr
SUMMARY:Tournoi de Beach-Handball
DESCRIPTION:En collaboration avec l’association de handball de Deauville\, des tournois de beach handball animeront tout le week-end. \nAu programme : \nSamedi : les équipes jeunes\, filles et garçons du Calvados\, de l’Orne et de la Seine-Maritime\, ainsi que l’équipe de Deauville\, s’affronteront lors des tournois dédiés à la jeunesse. \nDimanche : place aux adultes\, hommes et femmes\, avec un tournoi réunissant les meilleures équipes normandes évoluant au niveau national. \nInfos pratiques : \nLieu : la plage\, face au casino \nHoraires : 11h à 18h30 \ngratuit
URL:https://www.space-villers.fr/evenement/tournoi-de-beach-handball/
LOCATION:Plage
ATTACH;FMTTYPE=image/png:https://www.space-villers.fr/wp-content/uploads/2026/04/AGENDA-BEACH-HANDBALL.png
ORGANIZER;CN="Epic Space":MAILTO:contact@space-villers.fr
END:VEVENT
BEGIN:VEVENT
DTSTART;TZID=Europe/Paris:20260502T110000
DTEND;TZID=Europe/Paris:20260502T170000
DTSTAMP:20260421T074933
CREATED:20260401T125304Z
LAST-MODIFIED:20260402T062804Z
UID:137071-1777719600-1777741200@www.space-villers.fr
SUMMARY:Course de Caisses à Savon
DESCRIPTION:La course le plus déjanté de l’année fait son retour le samedi 2 mai 2026 !  \nCréativité\, esprit d’équipe et bonne humeur sont au programme : construisez votre bolide (sans moteur)\, trouvez un nom d’équipe amusant et sortez vos plus beaux déguisements décalés ! \nLe tout dans une ambiance rétro vintage pour célébrer le 170ᵉ anniversaire de Villers-sur-Mer. 🎊 \nMODALITÉS D’INSCRIPTION\nPour vous inscrire\, rendez-vous sur la billetterie et renseignez votre mail afin de recevoir le dossier d’inscription à renvoyer avant le 27 avril à l’adresse contact@space-villers.fr\n🔗 Billetterie : caisse à savon \nInfos pratiques :\nLieu : Amphithéatre Perdrisot et rue des Bosquets\nDate : Samedi 2 mai\nHoraires : 11h – 17h\nTarifs : 20€ par bolide \nÉquipe : 1 pilote (ou duo pilote/co-pilote) + 2 assistantsOuvert aux +14 ans à la date de l’événementEntrée libre et gratuite pour les spectateurs !
URL:https://www.space-villers.fr/evenement/course-de-caisses-a-savon/
LOCATION:Amphithéâtre Perdrisot\, Place Jean Mermoz\, Villers sur mer\, 14640\, France
ATTACH;FMTTYPE=image/png:https://www.space-villers.fr/wp-content/uploads/2026/04/AGENDA-COURSE-DE-CAISSES-A-SAVON.png
ORGANIZER;CN="Epic Space":MAILTO:contact@space-villers.fr
GEO:49.324080328511;-0.0056238718596457
X-APPLE-STRUCTURED-LOCATION;VALUE=URI;X-ADDRESS=Amphithéâtre Perdrisot Place Jean Mermoz Villers sur mer 14640 France;X-APPLE-RADIUS=500;X-TITLE=Place Jean Mermoz:geo:-0.0056238718596457,49.324080328511
END:VEVENT
BEGIN:VEVENT
DTSTART;TZID=Europe/Paris:20260507T100000
DTEND;TZID=Europe/Paris:20260519T180000
DTSTAMP:20260421T074933
CREATED:20260323T105256Z
LAST-MODIFIED:20260323T105256Z
UID:136979-1778148000-1779213600@www.space-villers.fr
SUMMARY:Exposition de photographies par l'Atelier Photographique de Villers-sur-Mer
DESCRIPTION:L’Atelier Photographique de Villers-sur-Mer vous présente son exposition annuelle au Villare. Sans thème imposé\, chaque photographe du club y dévoile une oeuvre personnelle\, reflet de sa sensibilité et de son regard. Les visiteurs sont invités à voter pour leur photo préférée ; un tirage au sort permettra à l’un d’eux de remporter l’image la plus plébiscitée. Un rendez-vous placé sous le signe du partage et de la passion photographique. \nARTISTES : L’Atelier Photographique de Villers-sur-Mer \nInfos pratiques :\nLieu : Le VillareDates : du 7 au 19 mai\nHoraires : Du lundi au dimanche de 10h à 12h et de 14h à 18h\nEntrée gratuite
URL:https://www.space-villers.fr/evenement/exposition-de-photographies-par-latelier-photographique-de-villers-sur-mer/
LOCATION:Le Villare\, 26 Rue du Général de Gaulle\, Villers-sur-Mer\, 14640\, France
CATEGORIES:Adulte,Culture,Exposition
ATTACH;FMTTYPE=image/jpeg:https://www.space-villers.fr/wp-content/uploads/2026/03/En-equilibre-Didier-Goyer.jpg
ORGANIZER;CN="Epic Space":MAILTO:contact@space-villers.fr
END:VEVENT
BEGIN:VEVENT
DTSTART;TZID=Europe/Paris:20260521T100000
DTEND;TZID=Europe/Paris:20260526T180000
DTSTAMP:20260421T074933
CREATED:20260323T110933Z
LAST-MODIFIED:20260323T110933Z
UID:136982-1779357600-1779818400@www.space-villers.fr
SUMMARY:Exposition "De la Matière à la Lumière" par Denis Prieur
DESCRIPTION:De la Matière à la lumière réunit une série de peintures explorant le passage de la densité à l’éclat. Par un travail de textures\, de strates et de reliefs\, l’artiste fait émerger la lumière du coeur même de la matière. Chaque oeuvre propose une expérience sensible où profondeur\, transparence et révélation dialoguent\, invitant le regard à un cheminement intérieur. \nARTISTE : Denis Prieur \nInfos pratiques :\nLieu : Le VillareDates : du 21 au 26 mai\nHoraires :Du lundi au dimanche de 10h à 12h et de 14h à 18h\nEntrée gratuite
URL:https://www.space-villers.fr/evenement/exposition-de-la-matiere-a-la-lumiere-par-denis-prieur/
LOCATION:Le Villare\, 26 Rue du Général de Gaulle\, Villers-sur-Mer\, 14640\, France
CATEGORIES:Adulte,Culture,Exposition
ATTACH;FMTTYPE=image/jpeg:https://www.space-villers.fr/wp-content/uploads/2026/03/Kato-Zakros-un-ete-en-Crete-Denis-Prieur.jpg
ORGANIZER;CN="Epic Space":MAILTO:contact@space-villers.fr
END:VEVENT
END:VCALENDAR